BEGIN:VCALENDAR
VERSION:2.0
PRODID:spatie/icalendar-generator
DESCRIPTION:Évènements de 
X-WR-CALDESC:Évènements de 
REFRESH-INTERVAL;VALUE=DURATION:PT1440M
X-PUBLISHED-TTL:PT1440M
BEGIN:VTIMEZONE
TZID:Europe/Paris
BEGIN:STANDARD
DTSTART:20251026T030000Z
TZOFFSETFROM:+0200
TZOFFSETTO:+0100
END:STANDARD
BEGIN:DAYLIGHT
DTSTART:20260329T020000Z
TZOFFSETFROM:+0100
TZOFFSETTO:+0200
END:DAYLIGHT
END:VTIMEZONE
BEGIN:VTIMEZONE
TZID:UTC
BEGIN:STANDARD
DTSTART:20250726T203259Z
TZOFFSETFROM:+0000
TZOFFSETTO:+0000
END:STANDARD
END:VTIMEZONE
BEGIN:VEVENT
UID:134-73
DTSTAMP:20260422T203259Z
SUMMARY:Musée de la Manufacture
LOCATION:Club Léo Lagrange 82 rue des Chauffours  ARMENTIERES  59280
ORGANIZER;CN=admin1:MAILTO:cyber@clla.fr
DTSTART;TZID=Europe/Paris:20260312T131500
DTEND;TZID=Europe/Paris:20260312T160000
X-ALT-DESC;FMTTYPE=TEXT/HTML:Rassemblement au Club Léo Lagrange. Prix : 2
 €.
CATEGORIES:General
URL;VALUE=URI:https://www.clla.fr/mc-events/musee-de-la-manufacture/
METHOD:PUBLISH
END:VEVENT
END:VCALENDAR